Workbook

Sheet Лист1
A2: Итоговая таблица
A3: II Комплексная Спартакиада трудовых коллективов Заводоуковского ГО
A4: № | B4: Команда | C4: МИНИ-ФУТБОЛ | E4: Н. ТЕННИС | G4: СИЛОВАЯ ЭСТАФЕТА | I4: шахматы | K4: ШАШКИ | M4: НАРДЫ | O4: Л\А ЭСТАФЕТА | Q4: ГТО | S4: Мама папа я, спортивная семья | U4: Л\АТЛЕТИКА | W4: ГОРОДОШНЫЙ СПОРТ | Y4: Соревнования по туризму | AA4: ДАРТС | AC4: СТРЕЛЬБА ПУЛЕВАЯ | AE4: ВОЛЕЙБОЛ | AG4: БАСКЕТБОЛ | AI4: Лыжные гонки | AK4: ПЕРЕТЯГИВАНИЕ КАНАТА | AM4: Очки | AN4: Место
C5: 1 | E5: 2 | G5: 3 | I5: 4 | K5: 5 | M5: 6 | O5: 7 | Q5: 8 | S5: 9 | U5: 10 | W5: 11 | Y5: 12 | AA5: 13 | AC5: 14 | AE5: 15 | AG5: 16 | AI5: 17 | AK5: 18
C6: м | D6: о | E6: м | F6: о | G6: м | H6: о | I6: м | J6: о | K6: м | L6: о | M6: м | N6: о | O6: м | P6: о | Q6: м | R6: о | S6: м | T6: о | U6: м | V6: о | W6: м | X6: о | Y6: м | Z6: о | AA6: м | AB6: о | AC6: м | AD6: о | AE6: м | AF6: о | AG6: м | AH6: о | AI6: м | AJ6: о | AK6: м | AL6: о
A7: 1 | B7: МАШЗАВОД | C7: 1 | D7: =LOOKUP(C7,Лист2!A1:A13,Лист2!B1:B13) -> 30 | F7: =LOOKUP(E7,Лист2!A1:A13,Лист2!B1:B13) -> 0 | H7: =LOOKUP(G7,Лист2!A1:A13,Лист2!B1:B13) -> 0 | J7: =LOOKUP(I7,Лист2!A1:A13,Лист2!B1:B13) -> 0 | L7: =LOOKUP(K7,Лист2!A1:A13,Лист2!B1:B13) -> 0 | N7: =LOOKUP(M7,Лист2!A1:A13,Лист2!B1:B13) -> 0 | P7: =LOOKUP(O7,Лист2!A1:A13,Лист2!B1:B13) -> 0 | R7: =LOOKUP(Q7,Лист2!A1:A13,Лист2!B1:B13) -> 0 | T7: =LOOKUP(S7,Лист2!A1:A13,Лист2!B1:B13) -> 0 | V7: =LOOKUP(U7,Лист2!A1:A13,Лист2!B1:B13) -> 0 | X7: =LOOKUP(W7,Лист2!A1:A13,Лист2!B1:B13) -> 0 | Z7: =LOOKUP(Y7,Лист2!A1:A13,Лист2!B1:B13) -> 0 | AB7: =LOOKUP(AA7,Лист2!A1:A13,Лист2!B1:B13) -> 0 | AD7: =LOOKUP(AC7,Лист2!A1:A13,Лист2!B1:B13) -> 0 | AF7: =LOOKUP(AE7,Лист2!A1:A13,Лист2!B1:B13) -> 0 | AH7: =LOOKUP(AG7,Лист2!A1:A13,Лист2!B1:B13) -> 0 | AJ7: =LOOKUP(AI7,Лист2!A1:A13,Лист2!B1:B13) -> 0 | AL7: =LOOKUP(AK7,Лист2!A1:A13,Лист2!B1:B13) -> 0 | AM7: =AL7+AJ7+AH7+AF7+AD7+AB7+Z7+X7+V7+T7+R7+P7+N7+L7+J7+H7+F7+D7 -> 30 | AN7: I
A8: 2 | B8: СТУДЕНТ | C8: 2 | D8: =LOOKUP(C8,Лист2!A1:A13,Лист2!B1:B13) -> 24 | F8: =LOOKUP(E8,Лист2!A1:A13,Лист2!B1:B13) -> 0 | H8: =LOOKUP(G8,Лист2!A1:A13,Лист2!B1:B13) -> 0 | J8: =LOOKUP(I8,Лист2!A1:A13,Лист2!B1:B13) -> 0 | L8: =LOOKUP(K8,Лист2!A1:A13,Лист2!B1:B13) -> 0 | N8: =LOOKUP(M8,Лист2!A1:A13,Лист2!B1:B13) -> 0 | P8: =LOOKUP(O8,Лист2!A1:A13,Лист2!B1:B13) -> 0 | R8: =LOOKUP(Q8,Лист2!A1:A13,Лист2!B1:B13) -> 0 | T8: =LOOKUP(S8,Лист2!A1:A13,Лист2!B1:B13) -> 0 | V8: =LOOKUP(U8,Лист2!A1:A13,Лист2!B1:B13) -> 0 | X8: =LOOKUP(W8,Лист2!A1:A13,Лист2!B1:B13) -> 0 | Z8: =LOOKUP(Y8,Лист2!A1:A13,Лист2!B1:B13) -> 0 | AB8: =LOOKUP(AA8,Лист2!A1:A13,Лист2!B1:B13) -> 0 | AD8: =LOOKUP(AC8,Лист2!A1:A13,Лист2!B1:B13) -> 0 | AF8: =LOOKUP(AE8,Лист2!A1:A13,Лист2!B1:B13) -> 0 | AH8: =LOOKUP(AG8,Лист2!A1:A13,Лист2!B1:B13) -> 0 | AJ8: =LOOKUP(AI8,Лист2!A1:A13,Лист2!B1:B13) -> 0 | AL8: =LOOKUP(AK8,Лист2!A1:A13,Лист2!B1:B13) -> 0 | AM8: =AL8+AJ8+AH8+AF8+AD8+AB8+Z8+X8+V8+T8+R8+P8+N8+L8+J8+H8+F8+D8 -> 24 | AN8: II
A9: 3 | B9: СИЗО | C9: 3 | D9: =LOOKUP(C9,Лист2!A1:A13,Лист2!B1:B13) -> 20 | F9: =LOOKUP(E9,Лист2!A1:A13,Лист2!B1:B13) -> 0 | H9: =LOOKUP(G9,Лист2!A1:A13,Лист2!B1:B13) -> 0 | J9: =LOOKUP(I9,Лист2!A1:A13,Лист2!B1:B13) -> 0 | L9: =LOOKUP(K9,Лист2!A1:A13,Лист2!B1:B13) -> 0 | N9: =LOOKUP(M9,Лист2!A1:A13,Лист2!B1:B13) -> 0 | P9: =LOOKUP(O9,Лист2!A1:A13,Лист2!B1:B13) -> 0 | R9: =LOOKUP(Q9,Лист2!A1:A13,Лист2!B1:B13) -> 0 | T9: =LOOKUP(S9,Лист2!A1:A13,Лист2!B1:B13) -> 0 | V9: =LOOKUP(U9,Лист2!A1:A13,Лист2!B1:B13) -> 0 | X9: =LOOKUP(W9,Лист2!A1:A13,Лист2!B1:B13) -> 0 | Z9: =LOOKUP(Y9,Лист2!A1:A13,Лист2!B1:B13) -> 0 | AB9: =LOOKUP(AA9,Лист2!A1:A13,Лист2!B1:B13) -> 0 | AD9: =LOOKUP(AC9,Лист2!A1:A13,Лист2!B1:B13) -> 0 | AF9: =LOOKUP(AE9,Лист2!A1:A13,Лист2!B1:B13) -> 0 | AH9: =LOOKUP(AG9,Лист2!A1:A13,Лист2!B1:B13) -> 0 | AJ9: =LOOKUP(AI9,Лист2!A1:A13,Лист2!B1:B13) -> 0 | AL9: =LOOKUP(AK9,Лист2!A1:A13,Лист2!B1:B13) -> 0 | AM9: =AL9+AJ9+AH9+AF9+AD9+AB9+Z9+X9+V9+T9+R9+P9+N9+L9+J9+H9+F9+D9 -> 20 | AN9: III
A10: 4 | B10: АДМИНИСТРАЦИЯ ЗГО | C10: 4 | D10: =LOOKUP(C10,Лист2!A1:A13,Лист2!B1:B13) -> 18 | F10: =LOOKUP(E10,Лист2!A1:A13,Лист2!B1:B13) -> 0 | H10: =LOOKUP(G10,Лист2!A1:A13,Лист2!B1:B13) -> 0 | J10: =LOOKUP(I10,Лист2!A1:A13,Лист2!B1:B13) -> 0 | L10: =LOOKUP(K10,Лист2!A1:A13,Лист2!B1:B13) -> 0 | N10: =LOOKUP(M10,Лист2!A1:A13,Лист2!B1:B13) -> 0 | P10: =LOOKUP(O10,Лист2!A1:A13,Лист2!B1:B13) -> 0 | R10: =LOOKUP(Q10,Лист2!A1:A13,Лист2!B1:B13) -> 0 | T10: =LOOKUP(S10,Лист2!A1:A13,Лист2!B1:B13) -> 0 | V10: =LOOKUP(U10,Лист2!A1:A13,Лист2!B1:B13) -> 0 | X10: =LOOKUP(W10,Лист2!A1:A13,Лист2!B1:B13) -> 0 | Z10: =LOOKUP(Y10,Лист2!A1:A13,Лист2!B1:B13) -> 0 | AB10: =LOOKUP(AA10,Лист2!A1:A13,Лист2!B1:B13) -> 0 | AD10: =LOOKUP(AC10,Лист2!A1:A13,Лист2!B1:B13) -> 0 | AF10: =LOOKUP(AE10,Лист2!A1:A13,Лист2!B1:B13) -> 0 | AH10: =LOOKUP(AG10,Лист2!A1:A13,Лист2!B1:B13) -> 0 | AJ10: =LOOKUP(AI10,Лист2!A1:A13,Лист2!B1:B13) -> 0 | AL10: =LOOKUP(AK10,Лист2!A1:A13,Лист2!B1:B13) -> 0 | AM10: =AL10+AJ10+AH10+AF10+AD10+AB10+Z10+X10+V10+T10+R10+P10+N10+L10+J10+H10+F10+D10 -> 18 | AN10: 4
A11: 5 | B11: ДИНАМО | C11: 5 | D11: =LOOKUP(C11,Лист2!A1:A13,Лист2!B1:B13) -> 17 | F11: =LOOKUP(E11,Лист2!A1:A13,Лист2!B1:B13) -> 0 | H11: =LOOKUP(G11,Лист2!A1:A13,Лист2!B1:B13) -> 0 | J11: =LOOKUP(I11,Лист2!A1:A13,Лист2!B1:B13) -> 0 | L11: =LOOKUP(K11,Лист2!A1:A13,Лист2!B1:B13) -> 0 | N11: =LOOKUP(M11,Лист2!A1:A13,Лист2!B1:B13) -> 0 | P11: =LOOKUP(O11,Лист2!A1:A13,Лист2!B1:B13) -> 0 | R11: =LOOKUP(Q11,Лист2!A1:A13,Лист2!B1:B13) -> 0 | T11: =LOOKUP(S11,Лист2!A1:A13,Лист2!B1:B13) -> 0 | V11: =LOOKUP(U11,Лист2!A1:A13,Лист2!B1:B13) -> 0 | X11: =LOOKUP(W11,Лист2!A1:A13,Лист2!B1:B13) -> 0 | Z11: =LOOKUP(Y11,Лист2!A1:A13,Лист2!B1:B13) -> 0 | AB11: =LOOKUP(AA11,Лист2!A1:A13,Лист2!B1:B13) -> 0 | AD11: =LOOKUP(AC11,Лист2!A1:A13,Лист2!B1:B13) -> 0 | AF11: =LOOKUP(AE11,Лист2!A1:A13,Лист2!B1:B13) -> 0 | AH11: =LOOKUP(AG11,Лист2!A1:A13,Лист2!B1:B13) -> 0 | AJ11: =LOOKUP(AI11,Лист2!A1:A13,Лист2!B1:B13) -> 0 | AL11: =LOOKUP(AK11,Лист2!A1:A13,Лист2!B1:B13) -> 0 | AM11: =AL11+AJ11+AH11+AF11+AD11+AB11+Z11+X11+V11+T11+R11+P11+N11+L11+J11+H11+F11+D11 -> 17 | AN11: 5
A12: 6 | B12: СПАСАТЕЛЬ | C12: 6 | D12: =LOOKUP(C12,Лист2!A1:A13,Лист2!B1:B13) -> 16 | F12: =LOOKUP(E12,Лист2!A1:A13,Лист2!B1:B13) -> 0 | H12: =LOOKUP(G12,Лист2!A1:A13,Лист2!B1:B13) -> 0 | J12: =LOOKUP(I12,Лист2!A1:A13,Лист2!B1:B13) -> 0 | L12: =LOOKUP(K12,Лист2!A1:A13,Лист2!B1:B13) -> 0 | N12: =LOOKUP(M12,Лист2!A1:A13,Лист2!B1:B13) -> 0 | P12: =LOOKUP(O12,Лист2!A1:A13,Лист2!B1:B13) -> 0 | R12: =LOOKUP(Q12,Лист2!A1:A13,Лист2!B1:B13) -> 0 | T12: =LOOKUP(S12,Лист2!A1:A13,Лист2!B1:B13) -> 0 | V12: =LOOKUP(U12,Лист2!A1:A13,Лист2!B1:B13) -> 0 | X12: =LOOKUP(W12,Лист2!A1:A13,Лист2!B1:B13) -> 0 | Z12: =LOOKUP(Y12,Лист2!A1:A13,Лист2!B1:B13) -> 0 | AB12: =LOOKUP(AA12,Лист2!A1:A13,Лист2!B1:B13) -> 0 | AD12: =LOOKUP(AC12,Лист2!A1:A13,Лист2!B1:B13) -> 0 | AF12: =LOOKUP(AE12,Лист2!A1:A13,Лист2!B1:B13) -> 0 | AH12: =LOOKUP(AG12,Лист2!A1:A13,Лист2!B1:B13) -> 0 | AJ12: =LOOKUP(AI12,Лист2!A1:A13,Лист2!B1:B13) -> 0 | AL12: =LOOKUP(AK12,Лист2!A1:A13,Лист2!B1:B13) -> 0 | AM12: =AL12+AJ12+AH12+AF12+AD12+AB12+Z12+X12+V12+T12+R12+P12+N12+L12+J12+H12+F12+D12 -> 16 | AN12: 6
A13: 7 | B13: УЧИТЕЛЬ | C13: 7 | D13: =LOOKUP(C13,Лист2!A1:A13,Лист2!B1:B13) -> 12 | F13: =LOOKUP(E13,Лист2!A1:A13,Лист2!B1:B13) -> 0 | H13: =LOOKUP(G13,Лист2!A1:A13,Лист2!B1:B13) -> 0 | J13: =LOOKUP(I13,Лист2!A1:A13,Лист2!B1:B13) -> 0 | L13: =LOOKUP(K13,Лист2!A1:A13,Лист2!B1:B13) -> 0 | N13: =LOOKUP(M13,Лист2!A1:B12,Лист2!B1:B13) -> 0 | P13: =LOOKUP(O13,Лист2!A1:A13,Лист2!B1:B13) -> 0 | R13: =LOOKUP(Q13,Лист2!A1:A13,Лист2!B1:B13) -> 0 | T13: =LOOKUP(S13,Лист2!A1:A13,Лист2!B1:B13) -> 0 | V13: =LOOKUP(U13,Лист2!A1:A13,Лист2!B1:B13) -> 0 | X13: =LOOKUP(W13,Лист2!A1:A13,Лист2!B1:B13) -> 0 | Z13: =LOOKUP(Y13,Лист2!A1:A13,Лист2!B1:B13) -> 0 | AB13: =LOOKUP(AA13,Лист2!A1:A13,Лист2!B1:B13) -> 0 | AD13: =LOOKUP(AC13,Лист2!A1:A13,Лист2!B1:B13) -> 0 | AF13: =LOOKUP(AE13,Лист2!A1:A13,Лист2!B1:B13) -> 0 | AH13: =LOOKUP(AG13,Лист2!A1:A13,Лист2!B1:B13) -> 0 | AJ13: =LOOKUP(AI13,Лист2!A1:A13,Лист2!B1:B13) -> 0 | AL13: =LOOKUP(AK13,Лист2!A1:A13,Лист2!B1:B13) -> 0 | AM13: =AL13+AJ13+AH13+AF13+AD13+AB13+Z13+X13+V13+T13+R13+P13+N13+L13+J13+H13+F13+D13 -> 12 | AN13: 7
A14: 8 | B14: ЭНЕРГЕТИК | C14: x | D14: =LOOKUP(C14,Лист2!A1:A13,Лист2!B1:B13) -> -50 | F14: =LOOKUP(E14,Лист2!A1:A13,Лист2!B1:B13) -> 0 | H14: =LOOKUP(G14,Лист2!A1:A13,Лист2!B1:B13) -> 0 | J14: =LOOKUP(I14,Лист2!A1:A13,Лист2!B1:B13) -> 0 | L14: =LOOKUP(K14,Лист2!A1:A13,Лист2!B1:B13) -> 0 | N14: =LOOKUP(M14,Лист2!A1:A13,Лист2!B1:B13) -> 0 | P14: =LOOKUP(O14,Лист2!A1:A13,Лист2!B1:B13) -> 0 | R14: =LOOKUP(Q14,Лист2!A1:A13,Лист2!B1:B13) -> 0 | T14: =LOOKUP(S14,Лист2!A1:A13,Лист2!B1:B13) -> 0 | V14: =LOOKUP(U14,Лист2!A1:A13,Лист2!B1:B13) -> 0 | X14: =LOOKUP(W14,Лист2!A1:A13,Лист2!B1:B13) -> 0 | Z14: =LOOKUP(Y14,Лист2!A1:A13,Лист2!B1:B13) -> 0 | AB14: =LOOKUP(AA14,Лист2!A1:A13,Лист2!B1:B13) -> 0 | AD14: =LOOKUP(AC14,Лист2!A1:A13,Лист2!B1:B13) -> 0 | AF14: =LOOKUP(AE14,Лист2!A1:A13,Лист2!B1:B13) -> 0 | AH14: =LOOKUP(AG14,Лист2!A1:A13,Лист2!B1:B13) -> 0 | AJ14: =LOOKUP(AI14,Лист2!A1:A13,Лист2!B1:B13) -> 0 | AL14: =LOOKUP(AK14,Лист2!A1:A13,Лист2!B1:B13) -> 0 | AM14: =AL14+AJ14+AH14+AF14+AD14+AB14+Z14+X14+V14+T14+R14+P14+N14+L14+J14+H14+F14+D14 -> -50 | AN14: 8
A15: 9 | B15: КОМПОЗИТ | C15: x | D15: =LOOKUP(C15,Лист2!A1:A13,Лист2!B1:B13) -> -50 | F15: =LOOKUP(E15,Лист2!A1:A13,Лист2!B1:B13) -> 0 | H15: =LOOKUP(G15,Лист2!A1:A13,Лист2!B1:B13) -> 0 | J15: =LOOKUP(I15,Лист2!A1:A13,Лист2!B1:B13) -> 0 | L15: =LOOKUP(K15,Лист2!A1:A13,Лист2!B1:B13) -> 0 | N15: =LOOKUP(M15,Лист2!A1:A13,Лист2!B1:B13) -> 0 | P15: =LOOKUP(O15,Лист2!A1:A13,Лист2!B1:B13) -> 0 | R15: =LOOKUP(Q15,Лист2!A1:A13,Лист2!B1:B13) -> 0 | T15: =LOOKUP(S15,Лист2!A1:A13,Лист2!B1:B13) -> 0 | V15: =LOOKUP(U15,Лист2!A1:A13,Лист2!B1:B13) -> 0 | X15: =LOOKUP(W15,Лист2!A1:A13,Лист2!B1:B13) -> 0 | Z15: =LOOKUP(Y15,Лист2!A1:A13,Лист2!B1:B13) -> 0 | AB15: =LOOKUP(AA15,Лист2!A1:A13,Лист2!B1:B13) -> 0 | AD15: =LOOKUP(AC15,Лист2!A1:A13,Лист2!B1:B13) -> 0 | AF15: =LOOKUP(AE15,Лист2!A1:A13,Лист2!B1:B13) -> 0 | AH15: =LOOKUP(AG15,Лист2!A1:A13,Лист2!B1:B13) -> 0 | AJ15: =LOOKUP(AI15,Лист2!A1:A13,Лист2!B1:B13) -> 0 | AL15: =LOOKUP(AK15,Лист2!A1:A13,Лист2!B1:B13) -> 0 | AM15: =AL15+AJ15+AH15+AF15+AD15+AB15+Z15+X15+V15+T15+R15+P15+N15+L15+J15+H15+F15+D15 -> -50 | AN15: 9
A16: 10 | B16: МЕДИК | C16: x | D16: =LOOKUP(C16,Лист2!A1:A13,Лист2!B1:B13) -> -50 | F16: =LOOKUP(E16,Лист2!A1:A13,Лист2!B1:B13) -> 0 | H16: =LOOKUP(G16,Лист2!A1:A13,Лист2!B1:B13) -> 0 | J16: =LOOKUP(I16,Лист2!A1:A13,Лист2!B1:B13) -> 0 | L16: =LOOKUP(K16,Лист2!A1:A13,Лист2!B1:B13) -> 0 | N16: =LOOKUP(M16,Лист2!A1:A13,Лист2!B1:B13) -> 0 | P16: =LOOKUP(O16,Лист2!A1:A13,Лист2!B1:B13) -> 0 | R16: =LOOKUP(Q16,Лист2!A1:A13,Лист2!B1:B13) -> 0 | T16: =LOOKUP(S16,Лист2!A1:A13,Лист2!B1:B13) -> 0 | V16: =LOOKUP(U16,Лист2!A1:A13,Лист2!B1:B13) -> 0 | X16: =LOOKUP(W16,Лист2!A1:A13,Лист2!B1:B13) -> 0 | Z16: =LOOKUP(Y16,Лист2!A1:A13,Лист2!B1:B13) -> 0 | AB16: =LOOKUP(AA16,Лист2!A1:A13,Лист2!B1:B13) -> 0 | AD16: =LOOKUP(AC16,Лист2!A1:A13,Лист2!B1:B13) -> 0 | AF16: =LOOKUP(AE16,Лист2!A1:A13,Лист2!B1:B13) -> 0 | AH16: =LOOKUP(AG16,Лист2!A1:A13,Лист2!B1:B13) -> 0 | AJ16: =LOOKUP(AI16,Лист2!A1:A13,Лист2!B1:B13) -> 0 | AL16: =LOOKUP(AK16,Лист2!A1:A13,Лист2!B1:B13) -> 0 | AM16: =AL16+AJ16+AH16+AF16+AD16+AB16+Z16+X16+V16+T16+R16+P16+N16+L16+J16+H16+F16+D16 -> -50 | AN16: 10
A17: 11 | B17: ДОРОЖНИК | C17: x | D17: =LOOKUP(C17,Лист2!A1:A13,Лист2!B1:B13) -> -50 | F17: =LOOKUP(E17,Лист2!A1:A13,Лист2!B1:B13) -> 0 | H17: =LOOKUP(G17,Лист2!A1:A13,Лист2!B1:B13) -> 0 | J17: =LOOKUP(I17,Лист2!A1:A13,Лист2!B1:B13) -> 0 | L17: =LOOKUP(K17,Лист2!A1:A13,Лист2!B1:B13) -> 0 | N17: =LOOKUP(M17,Лист2!A1:A13,Лист2!B1:B13) -> 0 | P17: =LOOKUP(O17,Лист2!A1:A13,Лист2!B1:B13) -> 0 | R17: =LOOKUP(Q17,Лист2!A1:A13,Лист2!B1:B13) -> 0 | T17: =LOOKUP(S17,Лист2!A1:A13,Лист2!B1:B13) -> 0 | V17: =LOOKUP(U17,Лист2!A1:A13,Лист2!B1:B13) -> 0 | X17: =LOOKUP(W17,Лист2!A1:A13,Лист2!B1:B13) -> 0 | Z17: =LOOKUP(Y17,Лист2!A1:A13,Лист2!B1:B13) -> 0 | AB17: =LOOKUP(AA17,Лист2!A1:A13,Лист2!B1:B13) -> 0 | AD17: =LOOKUP(AC17,Лист2!A1:A13,Лист2!B1:B13) -> 0 | AF17: =LOOKUP(AE17,Лист2!A1:A13,Лист2!B1:B13) -> 0 | AH17: =LOOKUP(AG17,Лист2!A1:A13,Лист2!B1:B13) -> 0 | AJ17: =LOOKUP(AI17,Лист2!A1:A13,Лист2!B1:B13) -> 0 | AL17: =LOOKUP(AK17,Лист2!A1:A13,Лист2!B1:B13) -> 0 | AM17: =AL17+AJ17+AH17+AF17+AD17+AB17+Z17+X17+V17+T17+R17+P17+N17+L17+J17+H17+F17+D17 -> -50 | AN17: 11
A18: 12 | B18: ИНТЕРНАТ | C18: x | D18: =LOOKUP(C18,Лист2!A1:A13,Лист2!B1:B13) -> -50 | F18: =LOOKUP(E18,Лист2!A1:A13,Лист2!B1:B13) -> 0 | H18: =LOOKUP(G18,Лист2!A1:A13,Лист2!B1:B13) -> 0 | J18: =LOOKUP(I18,Лист2!A1:A13,Лист2!B1:B13) -> 0 | L18: =LOOKUP(K18,Лист2!A1:A13,Лист2!B1:B13) -> 0 | N18: =LOOKUP(M18,Лист2!A1:A13,Лист2!B1:B13) -> 0 | P18: =LOOKUP(O18,Лист2!A1:A13,Лист2!B1:B13) -> 0 | R18: =LOOKUP(Q18,Лист2!A1:A13,Лист2!B1:B13) -> 0 | T18: =LOOKUP(S18,Лист2!A1:A13,Лист2!B1:B13) -> 0 | V18: =LOOKUP(U18,Лист2!A1:A13,Лист2!B1:B13) -> 0 | X18: =LOOKUP(W18,Лист2!A1:A13,Лист2!B1:B13) -> 0 | Z18: =LOOKUP(Y18,Лист2!A1:A13,Лист2!B1:B13) -> 0 | AB18: =LOOKUP(AA18,Лист2!A1:A13,Лист2!B1:B13) -> 0 | AD18: =LOOKUP(AC18,Лист2!A1:A13,Лист2!B1:B13) -> 0 | AF18: =LOOKUP(AE18,Лист2!A1:A13,Лист2!B1:B13) -> 0 | AH18: =LOOKUP(AG18,Лист2!A1:A13,Лист2!B1:B13) -> 0 | AJ18: =LOOKUP(AI18,Лист2!A1:A13,Лист2!B1:B13) -> 0 | AL18: =LOOKUP(AK18,Лист2!A1:A13,Лист2!B1:B13) -> 0 | AM18: =AL18+AJ18+AH18+AF18+AD18+AB18+Z18+X18+V18+T18+R18+P18+N18+L18+J18+H18+F18+D18 -> -50 | AN18: 12
A19: 13 | B19: РИТЗА | C19: x | D19: =LOOKUP(C19,Лист2!A1:A13,Лист2!B1:B13) -> -50 | F19: =LOOKUP(E19,Лист2!A1:A13,Лист2!B1:B13) -> 0 | H19: =LOOKUP(G19,Лист2!A1:A13,Лист2!B1:B13) -> 0 | J19: =LOOKUP(I19,Лист2!A1:A13,Лист2!B1:B13) -> 0 | L19: =LOOKUP(K19,Лист2!A1:A13,Лист2!B1:B13) -> 0 | N19: =LOOKUP(M19,Лист2!A1:A13,Лист2!B1:B13) -> 0 | P19: =LOOKUP(O19,Лист2!A1:A13,Лист2!B1:B13) -> 0 | R19: =LOOKUP(Q19,Лист2!A1:A13,Лист2!B1:B13) -> 0 | T19: =LOOKUP(S19,Лист2!A1:A13,Лист2!B1:B13) -> 0 | V19: =LOOKUP(U19,Лист2!A1:A13,Лист2!B1:B13) -> 0 | X19: =LOOKUP(W19,Лист2!A1:A13,Лист2!B1:B13) -> 0 | Z19: =LOOKUP(Y19,Лист2!A1:A13,Лист2!B1:B13) -> 0 | AB19: =LOOKUP(AA19,Лист2!A1:A13,Лист2!B1:B13) -> 0 | AD19: =LOOKUP(AC19,Лист2!A1:A13,Лист2!B1:B13) -> 0 | AF19: =LOOKUP(AE19,Лист2!A1:A13,Лист2!B1:B13) -> 0 | AH19: =LOOKUP(AG19,Лист2!A1:A13,Лист2!B1:B13) -> 0 | AJ19: =LOOKUP(AI19,Лист2!A1:A13,Лист2!B1:B13) -> 0 | AL19: =LOOKUP(AK19,Лист2!A1:A13,Лист2!B1:B13) -> 0 | AM19: =AL19+AJ19+AH19+AF19+AD19+AB19+Z19+X19+V19+T19+R19+P19+N19+L19+J19+H19+F19+D19 -> -50 | AN19: 13
A20: 14 | B20: СПОРТКОМИТЕТ | C20: x | D20: =LOOKUP(C20,Лист2!A1:A13,Лист2!B1:B13) -> -50 | F20: =LOOKUP(E20,Лист2!A1:A13,Лист2!B1:B13) -> 0 | H20: =LOOKUP(G20,Лист2!A1:A13,Лист2!B1:B13) -> 0 | J20: =LOOKUP(I20,Лист2!A1:A13,Лист2!B1:B13) -> 0 | L20: =LOOKUP(K20,Лист2!A1:A13,Лист2!B1:B13) -> 0 | N20: =LOOKUP(M20,Лист2!A1:A13,Лист2!B1:B13) -> 0 | P20: =LOOKUP(O20,Лист2!A1:A13,Лист2!B1:B13) -> 0 | R20: =LOOKUP(Q20,Лист2!A1:A13,Лист2!B1:B13) -> 0 | T20: =LOOKUP(S20,Лист2!A1:A13,Лист2!B1:B13) -> 0 | V20: =LOOKUP(U20,Лист2!A1:A13,Лист2!B1:B13) -> 0 | X20: =LOOKUP(W20,Лист2!A1:A13,Лист2!B1:B13) -> 0 | Z20: =LOOKUP(Y20,Лист2!A1:A13,Лист2!B1:B13) -> 0 | AB20: =LOOKUP(AA20,Лист2!A1:A13,Лист2!B1:B13) -> 0 | AD20: =LOOKUP(AC20,Лист2!A1:A13,Лист2!B1:B13) -> 0 | AF20: =LOOKUP(AE20,Лист2!A1:A13,Лист2!B1:B13) -> 0 | AH20: =LOOKUP(AG20,Лист2!A1:A13,Лист2!B1:B13) -> 0 | AJ20: =LOOKUP(AI20,Лист2!A1:A13,Лист2!B1:B13) -> 0 | AL20: =LOOKUP(AK20,Лист2!A1:A13,Лист2!B1:B13) -> 0 | AM20: =AL20+AJ20+AH20+AF20+AD20+AB20+Z20+X20+V20+T20+R20+P20+N20+L20+J20+H20+F20+D20 -> -50 | AN20: 14
B23: Гл. судья | G23: \Кезиков Р. Г.\

Sheet Лист2
A1: 0 | B1: 0
A2: 1 | B2: 30 | D2: 1-е место – 30 очков 10-е место – 9 очков
A3: 2 | B3: 24 | D3: 2-е место – 24 очков 11-е место – 6 очков
A4: 3 | B4: 20 | D4: 3-е место – 20 очков 12-е место – 5 очков
A5: 4 | B5: 18 | D5: 4-е место – 18 очков 13-е место – 4 очков
A6: 5 | B6: 17 | D6: 5-е место – 17 очков 14-е место – 3 очков
A7: 6 | B7: 16 | D7: 6-е место – 16 очков 15-е место – 2 очка
A8: 7 | B8: 12 | D8: 7-е место – 12 очков 16-е место – 1 очка
A9: 8 | B9: 11 | D9: 8-е место – 11 очков
A10: 9 | B10: 10 | D10: 9-е место – 10 очков
A11: 10 | B11: 9
A12: 11 | B12: 6
A13: x | B13: -50

Sheet Лист3
